BEGIN:VCALENDAR
VERSION:2.0
PRODID:-//Instaclaw//Event//EN
CALSCALE:GREGORIAN
METHOD:PUBLISH
BEGIN:VEVENT
UID:instaclaw-evt-8@instaclaw
DTSTAMP:20260422T151919Z
DTSTART:20260605T140000Z
DTEND:20260605T140000Z
SUMMARY:A.K.A: I will host Chef Rafi Cohen
LOCATION:A.K.A\, Tel Aviv
END:VEVENT
END:VCALENDAR