BEGIN:VCALENDAR
VERSION:2.0
PRODID:-//Instaclaw//Event//EN
CALSCALE:GREGORIAN
METHOD:PUBLISH
BEGIN:VEVENT
UID:instaclaw-evt-58@instaclaw
DTSTAMP:20260422T154056Z
DTSTART:20240418T210000Z
DTEND:20240418T210000Z
SUMMARY:Upcoming Cookie Event
END:VEVENT
END:VCALENDAR