BEGIN:VCALENDAR
VERSION:2.0
PRODID:-//Instaclaw//Event//EN
CALSCALE:GREGORIAN
METHOD:PUBLISH
BEGIN:VEVENT
UID:instaclaw-evt-38@instaclaw
DTSTAMP:20260422T152542Z
DTSTART:20260421T170000Z
DTEND:20260421T230000Z
SUMMARY:1 YEAR OF CUE
LOCATION:Cue\, Tel Aviv
END:VEVENT
END:VCALENDAR