BEGIN:VCALENDAR
VERSION:2.0
PRODID:-//Instaclaw//Event//EN
CALSCALE:GREGORIAN
METHOD:PUBLISH
BEGIN:VEVENT
UID:instaclaw-evt-20@instaclaw
DTSTAMP:20260422T151919Z
DTSTART:20260417T140508Z
DTEND:20260417T140508Z
SUMMARY:מכינים לכם עוגות קראנץ׳
END:VEVENT
END:VCALENDAR