BEGIN:VCALENDAR
VERSION:2.0
PRODID:-//Instaclaw//Event//EN
CALSCALE:GREGORIAN
METHOD:PUBLISH
BEGIN:VEVENT
UID:instaclaw-evt-185@instaclaw
DTSTAMP:20260422T154056Z
DTSTART:20260414T210000Z
DTEND:20260414T210000Z
SUMMARY:שוּק של שפיוּת
LOCATION:שוק הפשפשים יפו
END:VEVENT
END:VCALENDAR