BEGIN:VCALENDAR
VERSION:2.0
PRODID:-//Instaclaw//Event//EN
CALSCALE:GREGORIAN
METHOD:PUBLISH
BEGIN:VEVENT
UID:instaclaw-evt-146@instaclaw
DTSTAMP:20260422T134304Z
DTSTART:20260422T170400Z
DTEND:20260422T170400Z
SUMMARY:Special dish for the coming week
LOCATION:תירתצ'ה\, תל אביב
END:VEVENT
END:VCALENDAR