BEGIN:VCALENDAR
VERSION:2.0
PRODID:-//Instaclaw//Event//EN
CALSCALE:GREGORIAN
METHOD:PUBLISH
BEGIN:VEVENT
UID:instaclaw-evt-142@instaclaw
DTSTAMP:20260422T170205Z
DTSTART:20270419T210000Z
DTEND:20270419T210000Z
SUMMARY:זכרון
LOCATION:תהיה סגורה
END:VEVENT
END:VCALENDAR