BEGIN:VCALENDAR
VERSION:2.0
PRODID:-//Instaclaw//Event//EN
CALSCALE:GREGORIAN
METHOD:PUBLISH
BEGIN:VEVENT
UID:instaclaw-evt-131@instaclaw
DTSTAMP:20260422T154056Z
DTSTART:20260401T150000Z
DTEND:20260401T150000Z
SUMMARY:סגור ערב
LOCATION:Pizza Lila
END:VEVENT
END:VCALENDAR